BEGIN:VCALENDAR
VERSION:2.0
PRODID:-//Birds of Vermont Museum - ECPv6.15.20//NONSGML v1.0//EN
CALSCALE:GREGORIAN
METHOD:PUBLISH
X-ORIGINAL-URL:https://birdsofvermont.org
X-WR-CALDESC:Events for Birds of Vermont Museum
REFRESH-INTERVAL;VALUE=DURATION:PT1H
X-Robots-Tag:noindex
X-PUBLISHED-TTL:PT1H
BEGIN:VTIMEZONE
TZID:America/New_York
BEGIN:DAYLIGHT
TZOFFSETFROM:-0500
TZOFFSETTO:-0400
TZNAME:EDT
DTSTART:20250309T070000
END:DAYLIGHT
BEGIN:STANDARD
TZOFFSETFROM:-0400
TZOFFSETTO:-0500
TZNAME:EST
DTSTART:20251102T060000
END:STANDARD
BEGIN:DAYLIGHT
TZOFFSETFROM:-0500
TZOFFSETTO:-0400
TZNAME:EDT
DTSTART:20260308T070000
END:DAYLIGHT
BEGIN:STANDARD
TZOFFSETFROM:-0400
TZOFFSETTO:-0500
TZNAME:EST
DTSTART:20261101T060000
END:STANDARD
BEGIN:DAYLIGHT
TZOFFSETFROM:-0500
TZOFFSETTO:-0400
TZNAME:EDT
DTSTART:20270314T070000
END:DAYLIGHT
BEGIN:STANDARD
TZOFFSETFROM:-0400
TZOFFSETTO:-0500
TZNAME:EST
DTSTART:20271107T060000
END:STANDARD
END:VTIMEZONE
BEGIN:VEVENT
DTSTART;TZID=America/New_York:20260214T130000
DTEND;TZID=America/New_York:20260214T153000
DTSTAMP:20260424T185337
CREATED:20260113T180041Z
LAST-MODIFIED:20260113T192027Z
UID:8613-1771074000-1771083000@birdsofvermont.org
SUMMARY:Barn Owl Needle Felting Workshop
DESCRIPTION:Complement the Great Backyard Bird Count with your own bird to bring home! \nSkilled felter Grace Safford will lead us in making a barn owl from wool. Materials provided. \nRegister at https://sevendaystickets.com/organizations/birds-of-vermont-museum or call 802 434-2167 or use this Registration button below: \nSign Up \nFee:  $30 ($25 for members) • Includes admission and your owl. \nMax: 14 participants\nAges: 10 and up (needles are sharp!) \n \n \nPhoto courtesy of Grace Safford and used with permission.
URL:https://birdsofvermont.org/event/barn-owl-needle-felting-workshop/
LOCATION:Birds of Vermont Museum
CATEGORIES:art,classes,kids,programs
ATTACH;FMTTYPE=image/jpeg:https://birdsofvermont.org/wpsite2017/wp-content/uploads/2026/01/barn-owl-Grace-Safford-scaled.jpg
ORGANIZER;CN="Birds of Vermont Museum":MAILTO:museum@birdsofvermont.org
END:VEVENT
END:VCALENDAR