BEGIN:VCALENDAR
VERSION:2.0
PRODID:-//Birds of Vermont Museum - ECPv6.15.20//NONSGML v1.0//EN
CALSCALE:GREGORIAN
METHOD:PUBLISH
X-WR-CALNAME:Birds of Vermont Museum
X-ORIGINAL-URL:https://birdsofvermont.org
X-WR-CALDESC:Events for Birds of Vermont Museum
REFRESH-INTERVAL;VALUE=DURATION:PT1H
X-Robots-Tag:noindex
X-PUBLISHED-TTL:PT1H
BEGIN:VTIMEZONE
TZID:America/New_York
BEGIN:DAYLIGHT
TZOFFSETFROM:-0500
TZOFFSETTO:-0400
TZNAME:EDT
DTSTART:20240310T070000
END:DAYLIGHT
BEGIN:STANDARD
TZOFFSETFROM:-0400
TZOFFSETTO:-0500
TZNAME:EST
DTSTART:20241103T060000
END:STANDARD
BEGIN:DAYLIGHT
TZOFFSETFROM:-0500
TZOFFSETTO:-0400
TZNAME:EDT
DTSTART:20250309T070000
END:DAYLIGHT
BEGIN:STANDARD
TZOFFSETFROM:-0400
TZOFFSETTO:-0500
TZNAME:EST
DTSTART:20251102T060000
END:STANDARD
BEGIN:DAYLIGHT
TZOFFSETFROM:-0500
TZOFFSETTO:-0400
TZNAME:EDT
DTSTART:20260308T070000
END:DAYLIGHT
BEGIN:STANDARD
TZOFFSETFROM:-0400
TZOFFSETTO:-0500
TZNAME:EST
DTSTART:20261101T060000
END:STANDARD
END:VTIMEZONE
BEGIN:VEVENT
DTSTART;VALUE=DATE:20251201
DTEND;VALUE=DATE:20260101
DTSTAMP:20260419T135846
CREATED:20251110T175405Z
LAST-MODIFIED:20251102T202401Z
UID:8447-1764547200-1767225599@birdsofvermont.org
SUMMARY:By-Appointment Season 2025-2026 (December)
DESCRIPTION:From November through April\, we’re open by appointment and for special events. Individuals\, families\, and groups are all welcome at all times of year. Our trails are open year-round\, sunrise to sunset. \nPlease call (802) 434-2167 or email museum@birdsofvermont.org several days in advance to schedule your visit. Admission is free for members! \nBehind the scenes in December: we’re sending out the Annual Appeal\, setting up programs and traveling exhibits\, and even working on next year’s events. We continue to invite all 2025 artists to pick up their works; look for the next call to artists soon. (We even have ideas for 2027 and beyond as well!)  Send us and email if you’d like to receive the next one. \nSign up to attend any special events: these are listed in online at https://birdsofvermont.org/special-upcoming/. We are trying a book-your-visit calendar if you would like to try online booking with that.
URL:https://birdsofvermont.org/event/by-appt-2025-dec/
LOCATION:Birds of Vermont Museum
ATTACH;FMTTYPE=image/jpeg:https://birdsofvermont.org/wpsite2017/wp-content/uploads/2024/10/bridge-winter-night-2018-ekt-banner.jpg
ORGANIZER;CN="Birds of Vermont Museum":MAILTO:museum@birdsofvermont.org
END:VEVENT
END:VCALENDAR