BEGIN:VCALENDAR
VERSION:2.0
PRODID:-//Birds of Vermont Museum - ECPv6.15.20//NONSGML v1.0//EN
CALSCALE:GREGORIAN
METHOD:PUBLISH
X-ORIGINAL-URL:https://birdsofvermont.org
X-WR-CALDESC:Events for Birds of Vermont Museum
REFRESH-INTERVAL;VALUE=DURATION:PT1H
X-Robots-Tag:noindex
X-PUBLISHED-TTL:PT1H
BEGIN:VTIMEZONE
TZID:America/New_York
BEGIN:DAYLIGHT
TZOFFSETFROM:-0500
TZOFFSETTO:-0400
TZNAME:EDT
DTSTART:20250309T070000
END:DAYLIGHT
BEGIN:STANDARD
TZOFFSETFROM:-0400
TZOFFSETTO:-0500
TZNAME:EST
DTSTART:20251102T060000
END:STANDARD
BEGIN:DAYLIGHT
TZOFFSETFROM:-0500
TZOFFSETTO:-0400
TZNAME:EDT
DTSTART:20260308T070000
END:DAYLIGHT
BEGIN:STANDARD
TZOFFSETFROM:-0400
TZOFFSETTO:-0500
TZNAME:EST
DTSTART:20261101T060000
END:STANDARD
BEGIN:DAYLIGHT
TZOFFSETFROM:-0500
TZOFFSETTO:-0400
TZNAME:EDT
DTSTART:20270314T070000
END:DAYLIGHT
BEGIN:STANDARD
TZOFFSETFROM:-0400
TZOFFSETTO:-0500
TZNAME:EST
DTSTART:20271107T060000
END:STANDARD
END:VTIMEZONE
BEGIN:VEVENT
DTSTART;VALUE=DATE:20260201
DTEND;VALUE=DATE:20260301
DTSTAMP:20260419T104913
CREATED:20260120T175423Z
LAST-MODIFIED:20260113T174246Z
UID:8449-1769904000-1772323199@birdsofvermont.org
SUMMARY:By-Appointment Season 2025-2026 (February)
DESCRIPTION:From November through April\, we’re open by appointment and for special events. Individuals\, families\, and groups are all welcome at all times of year. Our trails are open year-round\, sunrise to sunset. \nWe are open for one day of the Great Backyard Bird Count (February 14). Bring your sweetie! \nBehind the scenes in February:  We’re working on some special projects this month and doing some quiet birding. A few more artists might stop in to pick up works from last year’s show and we hope many of them are imagining or creating new ones for the next show! \nPlease call (802) 434-2167 or email museum@birdsofvermont.org several days in advance to schedule your visit. Try our self-scheduling booking calendar!  Admission is free for members! \nDo sign up to attend special events: these are listed on our calendar at https://birdsofvermont.org/special-upcoming/ .
URL:https://birdsofvermont.org/event/by-appt-2026-feb/
LOCATION:Birds of Vermont Museum
ATTACH;FMTTYPE=image/jpeg:https://birdsofvermont.org/wpsite2017/wp-content/uploads/2010/01/camelshump_winter.jpg
ORGANIZER;CN="Birds of Vermont Museum":MAILTO:museum@birdsofvermont.org
END:VEVENT
END:VCALENDAR